Workbook

Sheet Step1
A17: Project Name:
A19: Project Address:
A21: Project Owner
A23: FHA Project No. | D23: DUNS Number
A25: Total Units in Project: | C25: Total Section 8 Units In Project
A27: Date of Submission: | C27: Date Received by HUD:
A32: Step 1:
A34: Calculate the current Section 8 Rent Potential for EXPIRING contracts
B36: (A) | C36: (B) | D36: (C) | E36: (D)
B37: Unit Type and Contract and/or Stage | C37: # of Units | D37: Current Section 8 Contract Rents | E37: Current Section 8 Rent Potential (B x C)
E38: =SUM(C38*D38) -> 0
E39: =SUM(C39*D39) -> 0
E40: =SUM(C40*D40) -> 0
E41: =SUM(C41*D41) -> 0
E42: =SUM(C42*D42) -> 0
E43: =SUM(C43*D43) -> 0
E44: =SUM(C44*D44) -> 0
B46: (E) Monthly Expiring Section 8 Contract Rent Potential
D47: (Total of column D) | E47: =SUM(E38:E44) -> 0
B49: (F) Annual Section 8 Rent Potential for Expiring Contracts
D50: (E x 12) | E50: =SUM(E47*12) -> 0

Sheet Step 2 & 3
A2: Step 2:
A3: Calculate Increase Factor Adjusted by OCAF for Expiring contracts
G4: =Step1!E50 -> 0
B5: (G) | C5: Total Annual Rent Potential For
C6: Non-Expiring Section 8 Contracts
B7: (H) | C7: Total Annual Rent Potential
C8: For Non-Sec. 8 Units
B9: (I) | C9: Total Annual Project Rent Potential
C10: (F + G + H) | G10: =SUM(G4+G6+G8) -> 0
B11: (J) | C11: Expiring Section 8 Portion of
C12: Total Project Rent Potential (F ÷ I) | G12: =SUM(G4/G10) -> #DIV/0!
B13: (K) | C13: Total Annual Project Debt Service
B14: (L) | C14: Annual Expiring Section 8 Share of Debt Service
C15: (J x K) | G15: =SUM(G12*G13) -> #DIV/0!
B16: (M) | C16: Annual Expiring Section 8 Potential Less Expiring Sec. 8
C17: Share of Debt Service (F - L) | G17: =SUM(G4-G15) -> #DIV/0!
B18: (N) | C18: OCAF Adjustment
B19: (O) | C19: Annual Expiring Section 8
C20: Rent Potential Attributed to Operations
C21: Multiplied by Published OCAF (M x N) | G21: =SUM(G18*G17) -> #DIV/0!
B22: (P) | C22: Adjusted Contract Rent Potential (L + O) | G22: =SUM(G15+G21) -> #DIV/0!
B23: (Q) | C23: Lesser of (P) or Comparable Rent Potential From Rent
C24: Comparability Study
B25: (R) | C25: Increase Factor (Q ÷ F) | G25: =ROUND(G24/G4, 3) -> #DIV/0!
E26: =SUM(D33*G25) -> #DIV/0! | F26: =SUM(D34*G25) -> #DIV/0! | G26: =SUM(D35*$G$25) -> #DIV/0!
D27: =SUM(D35*$G$25) -> #DIV/0! | E27: =SUM(D36*$G$25) -> #DIV/0! | F27: =SUM(D37*$G$25) -> #DIV/0! | G27: =SUM(D38*$G$25) -> #DIV/0!
A28: Step 3:
A29: Calculate OCAF Adjusted contract Rent Potential for Expiring Section 8 contracts ONLY
B31: (S) | C31: (T) | D31: (U) | E31: (V) | F31: (W) | G31: (X)
B32: Unit Type and Contract and/or Stage | C32: # Units | D32: Current Contract Rents | E32: OCAF Adjusted Rent (R x U) | F32: Annual Adjusted Rent (V x 12) | G32: Adjusted Annual Rent Potential (T x W)
B33: =Step1!B38 -> 0 | C33: =Step1!C38 -> 0 | D33: =Step1!D38 -> 0 | E33: =ROUND(E26, 0) -> #DIV/0! | F33: =SUM(E33*12) -> #DIV/0! | G33: =SUM(C33*F33) -> #DIV/0!
B34: =Step1!B39 -> 0 | C34: =Step1!C39 -> 0 | D34: =Step1!D39 -> 0 | E34: =ROUND(F26, 0) -> #DIV/0! | F34: =SUM(E34*12) -> #DIV/0! | G34: =SUM(C34*F34) -> #DIV/0!
B35: =Step1!B40 -> 0 | C35: =Step1!C40 -> 0 | D35: =Step1!D40 -> 0 | E35: =ROUND(G26,0) -> #DIV/0! | F35: =SUM(E35*12) -> #DIV/0! | G35: =SUM(C35*F35) -> #DIV/0!
B36: =Step1!B41 -> 0 | C36: =Step1!C41 -> 0 | D36: =Step1!D41 -> 0 | E36: =SUM($G$25*D36) -> #DIV/0! | F36: =SUM(E36*12) -> #DIV/0! | G36: =SUM(C36*F36) -> #DIV/0!
B37: =Step1!B42 -> 0 | C37: =Step1!C42 -> 0 | D37: =Step1!D42 -> 0 | E37: =SUM($G$25*D37) -> #DIV/0! | F37: =SUM(E37*12) -> #DIV/0! | G37: =SUM(C37*F37) -> #DIV/0!
B38: =Step1!B43 -> 0 | C38: =Step1!C43 -> 0 | D38: =Step1!D43 -> 0 | E38: =SUM($G$25*D38) -> #DIV/0! | F38: =SUM(E38*12) -> #DIV/0! | G38: =SUM(C38*F38) -> #DIV/0!
B39: =Step1!B44 -> 0 | C39: =Step1!C44 -> 0 | D39: =Step1!D44 -> 0 | E39: =SUM($G$25*D39) -> #DIV/0! | F39: =SUM(E39*12) -> #DIV/0! | G39: =SUM(C39*F39) -> #DIV/0!
B41: (Y) Annual Adjusted Rent Potential of the Expiring Contracts(s)
E42: (total Column X): | G42: =SUM(G33:G39) -> #DIV/0!

Sheet Certification
A4: I (We) hereby certify that the statements and representations contained in or accompanying this instrument
A5: are true, accurate and complete to the best of my (our) knowledge and belief.
A7: Project Name:
A8: Owner's Name:
A9: Owner's signature: | G9: Date:
