Workbook
Name AL: '2022 UAF'!$D$3
Name CT: '2022 UAF'!$D$4
Name MS: '2022 UAF'!$D$5
Name VA: '2022 UAF'!$D$6

Sheet UAF 0BR
A1: Factor-Based Utility Analysis Calculations
A2: Select State: | B2: State
B4: Electricity | C4: Gas | D4: Water/Sewer/Trash | E4: Oil
A5: Enter Baseline UA Amount
A7: UAF | B7: =IF(B2='2022 UAF'!A3,AL,IF('UAF 0BR'!B2='2022 UAF'!A4,CT,IF('UAF 0BR'!B2='2022 UAF'!A5,MS,IF('UAF 0BR'!B2='2022 UAF'!A6,VA,0)))) -> 0 | C7: =IF(B2='2022 UAF'!A3,'2022 UAF'!C3,IF('UAF 0BR'!B2='2022 UAF'!A4,'2022 UAF'!C4,IF('UAF 0BR'!B2='2022 UAF'!A5,'2022 UAF'!C5,IF('UAF 0BR'!B2='2022 UAF'!A6,'2022 UAF'!C6,0)))) -> 0 | D7: =IF(B2='2022 UAF'!A3,'2022 UAF'!E3,IF('UAF 0BR'!B2='2022 UAF'!A4,'2022 UAF'!E4,IF('UAF 0BR'!B2='2022 UAF'!A5,'2022 UAF'!E5,IF('UAF 0BR'!B2='2022 UAF'!A6,'2022 UAF'!E6,0)))) -> 0 | E7: =IF(B2='2022 UAF'!A3,'2022 UAF'!B3,IF('UAF 0BR'!B2='2022 UAF'!A4,'2022 UAF'!B4,IF('UAF 0BR'!B2='2022 UAF'!A5,'2022 UAF'!B5,IF('UAF 0BR'!B2='2022 UAF'!A6,'2022 UAF'!B6,0)))) -> 0
A9: Renewed UA Per Utility Type | B9: =ROUND((B5*B7),0) -> 0 | C9: =ROUND((C5*C7),0) -> 0 | D9: =ROUND((D5*D7),0) -> 0 | E9: =ROUND((E5*E7),0) -> 0
A13: 0BR UA | B13: =SUM(B9:E9) -> 0

Sheet UAF 1BR
A1: Factor-Based Utility Analysis Calculations
A2: Select State: | B2: State
B4: Electricity | C4: Gas | D4: Water/Sewer/Trash | E4: Oil
A5: Enter Baseline UA Amount | B5: 0
A7: UAF | B7: =IF(B2='2022 UAF'!A3,AL,IF('UAF 1BR'!B2='2022 UAF'!A4,CT,IF('UAF 1BR'!B2='2022 UAF'!A5,MS,IF('UAF 1BR'!B2='2022 UAF'!A6,VA,0)))) -> 0 | C7: =IF(B2='2022 UAF'!A3,'2022 UAF'!C3,IF('UAF 1BR'!B2='2022 UAF'!A4,'2022 UAF'!C4,IF('UAF 1BR'!B2='2022 UAF'!A5,'2022 UAF'!C5,IF('UAF 1BR'!B2='2022 UAF'!A6,'2022 UAF'!C6,0)))) -> 0 | D7: =IF(B2='2022 UAF'!A3,'2022 UAF'!E3,IF('UAF 1BR'!B2='2022 UAF'!A4,'2022 UAF'!E4,IF('UAF 1BR'!B2='2022 UAF'!A5,'2022 UAF'!E5,IF('UAF 1BR'!B2='2022 UAF'!A6,'2022 UAF'!E6,0)))) -> 0 | E7: =IF(B2='2022 UAF'!A3,'2022 UAF'!B3,IF('UAF 1BR'!B2='2022 UAF'!A4,'2022 UAF'!B4,IF('UAF 1BR'!B2='2022 UAF'!A5,'2022 UAF'!B5,IF('UAF 1BR'!B2='2022 UAF'!A6,'2022 UAF'!B6,0)))) -> 0
A9: Renewed UA Per Utility Type | B9: =ROUND((B5*B7),0) -> 0 | C9: =ROUND((C5*C7),0) -> 0 | D9: =ROUND((D5*D7),0) -> 0 | E9: =ROUND((E5*E7),0) -> 0
A13: 1BR UA | B13: =SUM(B9:E9) -> 0

Sheet UAF 2BR
A1: Factor-Based Utility Analysis Calculations
A2: Select State: | B2: State
B4: Electricity | C4: Gas | D4: Water/Sewer/Trash | E4: Oil
A5: Enter Baseline UA Amount | B5: 0
A7: UAF | B7: =IF(B2='2022 UAF'!A3,AL,IF('UAF 2BR'!B2='2022 UAF'!A4,CT,IF('UAF 2BR'!B2='2022 UAF'!A5,MS,IF('UAF 2BR'!B2='2022 UAF'!A6,VA,0)))) -> 0 | C7: =IF(B2='2022 UAF'!A3,'2022 UAF'!C3,IF('UAF 2BR'!B2='2022 UAF'!A4,'2022 UAF'!C4,IF('UAF 2BR'!B2='2022 UAF'!A5,'2022 UAF'!C5,IF('UAF 2BR'!B2='2022 UAF'!A6,'2022 UAF'!C6,0)))) -> 0 | D7: =IF(B2='2022 UAF'!A3,'2022 UAF'!E3,IF('UAF 2BR'!B2='2022 UAF'!A4,'2022 UAF'!E4,IF('UAF 2BR'!B2='2022 UAF'!A5,'2022 UAF'!E5,IF('UAF 2BR'!B2='2022 UAF'!A6,'2022 UAF'!E6,0)))) -> 0 | E7: =IF(B2='2022 UAF'!A3,'2022 UAF'!B3,IF('UAF 2BR'!B2='2022 UAF'!A4,'2022 UAF'!B4,IF('UAF 2BR'!B2='2022 UAF'!A5,'2022 UAF'!B5,IF('UAF 2BR'!B2='2022 UAF'!A6,'2022 UAF'!B6,0)))) -> 0
A9: Renewed UA Per Utility Type | B9: =ROUND((B5*B7),0) -> 0 | C9: =ROUND((C5*C7),0) -> 0 | D9: =ROUND((D5*D7),0) -> 0 | E9: =ROUND((E5*E7),0) -> 0
A13: 2BR UA | B13: =SUM(B9:E9) -> 0

Sheet UAF 3BR
A1: Factor-Based Utility Analysis Calculations
A2: Select State: | B2: State
B4: Electricity | C4: Gas | D4: Water/Sewer/Trash | E4: Oil
A5: Enter Baseline UA Amount
A7: UAF | B7: =IF(B2='2022 UAF'!A3,AL,IF('UAF 3BR'!B2='2022 UAF'!A4,CT,IF('UAF 3BR'!B2='2022 UAF'!A5,MS,IF('UAF 3BR'!B2='2022 UAF'!A6,VA,0)))) -> 0 | C7: =IF(B2='2022 UAF'!A3,'2022 UAF'!C3,IF('UAF 3BR'!B2='2022 UAF'!A4,'2022 UAF'!C4,IF('UAF 3BR'!B2='2022 UAF'!A5,'2022 UAF'!C5,IF('UAF 3BR'!B2='2022 UAF'!A6,'2022 UAF'!C6,0)))) -> 0 | D7: =IF(B2='2022 UAF'!A3,'2022 UAF'!E3,IF('UAF 3BR'!B2='2022 UAF'!A4,'2022 UAF'!E4,IF('UAF 3BR'!B2='2022 UAF'!A5,'2022 UAF'!E5,IF('UAF 3BR'!B2='2022 UAF'!A6,'2022 UAF'!E6,0)))) -> 0 | E7: =IF(B2='2022 UAF'!A3,'2022 UAF'!B3,IF('UAF 3BR'!B2='2022 UAF'!A4,'2022 UAF'!B4,IF('UAF 3BR'!B2='2022 UAF'!A5,'2022 UAF'!B5,IF('UAF 3BR'!B2='2022 UAF'!A6,'2022 UAF'!B6,0)))) -> 0
A9: Renewed UA Per Utility Type | B9: =ROUND((B5*B7),0) -> 0 | C9: =ROUND((C5*C7),0) -> 0 | D9: =ROUND((D5*D7),0) -> 0 | E9: =ROUND((E5*E7),0) -> 0
A13: 3BR UA | B13: =SUM(B9:E9) -> 0

Sheet UAF 4BR
A1: Factor-Based Utility Analysis Calculations
A2: Select State: | B2: State
B4: Electricity | C4: Gas | D4: Water/Sewer/Trash | E4: Oil
A5: Enter Baseline UA Amount
A7: UAF | B7: =IF(B2='2022 UAF'!A3,AL,IF('UAF 4BR'!B2='2022 UAF'!A4,CT,IF('UAF 4BR'!B2='2022 UAF'!A5,MS,IF('UAF 4BR'!B2='2022 UAF'!A6,VA,0)))) -> 0 | C7: =IF(B2='2022 UAF'!A3,'2022 UAF'!C3,IF('UAF 4BR'!B2='2022 UAF'!A4,'2022 UAF'!C4,IF('UAF 4BR'!B2='2022 UAF'!A5,'2022 UAF'!C5,IF('UAF 4BR'!B2='2022 UAF'!A6,'2022 UAF'!C6,0)))) -> 0 | D7: =IF(B2='2022 UAF'!A3,'2022 UAF'!E3,IF('UAF 4BR'!B2='2022 UAF'!A4,'2022 UAF'!E4,IF('UAF 4BR'!B2='2022 UAF'!A5,'2022 UAF'!E5,IF('UAF 4BR'!B2='2022 UAF'!A6,'2022 UAF'!E6,0)))) -> 0 | E7: =IF(B2='2022 UAF'!A3,'2022 UAF'!B3,IF('UAF 4BR'!B2='2022 UAF'!A4,'2022 UAF'!B4,IF('UAF 4BR'!B2='2022 UAF'!A5,'2022 UAF'!B5,IF('UAF 4BR'!B2='2022 UAF'!A6,'2022 UAF'!B6,0)))) -> 0
A9: Renewed UA Per Utility Type | B9: =ROUND((B5*B7),0) -> 0 | C9: =ROUND((C5*C7),0) -> 0 | D9: =ROUND((D5*D7),0) -> 0 | E9: =ROUND((E5*E7),0) -> 0
A13: 4BR UA | B13: =SUM(B9:E9) -> 0

Sheet UAF 5BR
A1: Factor-Based Utility Analysis Calculations
A2: Select State: | B2: State
B4: Electricity | C4: Gas | D4: Water/Sewer/Trash | E4: Oil
A5: Enter Baseline UA Amount
A7: UAF | B7: =IF(B2='2022 UAF'!A3,AL,IF('UAF 5BR'!B2='2022 UAF'!A4,CT,IF('UAF 5BR'!B2='2022 UAF'!A5,MS,IF('UAF 5BR'!B2='2022 UAF'!A6,VA,0)))) -> 0 | C7: =IF(B2='2022 UAF'!A3,'2022 UAF'!C3,IF('UAF 5BR'!B2='2022 UAF'!A4,'2022 UAF'!C4,IF('UAF 5BR'!B2='2022 UAF'!A5,'2022 UAF'!C5,IF('UAF 5BR'!B2='2022 UAF'!A6,'2022 UAF'!C6,0)))) -> 0 | D7: =IF(B2='2022 UAF'!A3,'2022 UAF'!E3,IF('UAF 5BR'!B2='2022 UAF'!A4,'2022 UAF'!E4,IF('UAF 5BR'!B2='2022 UAF'!A5,'2022 UAF'!E5,IF('UAF 5BR'!B2='2022 UAF'!A6,'2022 UAF'!E6,0)))) -> 0 | E7: =IF(B2='2022 UAF'!A3,'2022 UAF'!B3,IF('UAF 5BR'!B2='2022 UAF'!A4,'2022 UAF'!B4,IF('UAF 5BR'!B2='2022 UAF'!A5,'2022 UAF'!B5,IF('UAF 5BR'!B2='2022 UAF'!A6,'2022 UAF'!B6,0)))) -> 0
A9: Renewed UA Per Utility Type | B9: =ROUND((B5*B7),0) -> 0 | C9: =ROUND((C5*C7),0) -> 0 | D9: =ROUND((D5*D7),0) -> 0 | E9: =ROUND((E5*E7),0) -> 0
A13: 5BR UA | B13: =SUM(B9:E9) -> 0

Sheet 2022 UAF
A1: FY 2021 Utility Allowance Factors
A2: State | B2: Oil | C2: Natural Gas | D2: Electricity | E2: Water/Sewer/Trash
A3: ALABAMA | B3: 0.84665656 | C3: 1.0345489 | D3: 1.0103751 | E3: 1.0343574
A4: CONNECTICUT | B4: 0.84145954 | C4: 1.0065024 | D4: 1.0260631 | E4: 1.0343574
A5: MISSISSIPPI | B5: 0.84665656 | C5: 1.0739153 | D5: 0.99911269 | E5: 1.0343574
A6: VIRGINIA | B6: 0.87748898 | C6: 1.0200431 | D6: 1.001657 | E6: 1.0343574
